[dpdk-test-report] |SUCCESS| pw65486-65491 [PATCH] [1/6] net/mlx5: introduce non-cached flows tailq list
dpdklab at iol.unh.edu
dpdklab at iol.unh.edu
Mon Feb 3 15:47:09 CET 2020
Test-Label: iol-testing
Test-Status: SUCCESS
http://dpdk.org/patch/65486
_Testing PASS_
Submitter: Bing Zhao <bingz at mellanox.com>
Date: Monday, February 03 2020 13:32:10
DPDK git baseline: Repo:dpdk-next-net-mlx
Branch: master
CommitID:4cb1f7278a08a5da8e9ad5b5517823e18906824d
65486-65491 --> testing pass
Test environment and result as below:
+------------------+-------------------+--------------+----------------+------------------+--------------------+
| Environment | dpdk_compile_spdk | dpdk_compile | dpdk_unit_test | dpdk_compile_ovs | dpdk_meson_compile |
+==================+===================+==============+================+==================+====================+
| Ubuntu 18.04 | PASS | PASS | PASS | PASS | PASS |
+------------------+-------------------+--------------+----------------+------------------+--------------------+
| FreeBSD 11.2 | PASS | PASS | SKIPPED | SKIPPED | PASS |
+------------------+-------------------+--------------+----------------+------------------+--------------------+
| openSUSE Leap 15 | SKIPPED | PASS | SKIPPED | PASS | PASS |
+------------------+-------------------+--------------+----------------+------------------+--------------------+
| Fedora 31 | SKIPPED | PASS | SKIPPED | PASS | PASS |
+------------------+-------------------+--------------+----------------+------------------+--------------------+
Ubuntu 18.04
Kernel: 4.15.0-generic
GCC: 7.4
FreeBSD 11.2
Kernel: 11.2
GCC: 8.3
openSUSE Leap 15
Kernel: 4.12.14
GCC: 7.4.1
Fedora 31
Kernel: 5.3.16
GCC: 9.2.1
To view detailed results, visit:
https://lab.dpdk.org/results/dashboard/patchsets/9464/
UNH-IOL DPDK Community Lab
To manage your email subscriptions, visit:
https://lab.dpdk.org/results/dashboard/preferences/subscriptions/
More information about the test-report
mailing list