[dpdk-test-report] |SUCCESS| pw92335-92336 [PATCH] [v2, 2/2] test/distributor: fix burst flush on worker quit
dpdklab at iol.unh.edu
dpdklab at iol.unh.edu
Thu Apr 29 17:53:08 CEST 2021
Test-Label: iol-abi-testing
Test-Status: SUCCESS
http://dpdk.org/patch/92336
_Testing PASS_
Submitter: Stanislaw Kardach <kda at semihalf.com>
Date: Wednesday, April 28 2021 14:25:53
DPDK git baseline: Repo:dpdk
Branch: master
CommitID:1b593b9c832e9b284cc59665fe662242a3fc1daf
92335-92336 --> testing pass
Test environment and result as below:
+------------------+----------+
| Environment | abi_test |
+==================+==========+
| Ubuntu 18.04 ARM | PASS |
+------------------+----------+
| Fedora 32 | PASS |
+------------------+----------+
| CentOS Stream 8 | PASS |
+------------------+----------+
| Fedora 31 | PASS |
+------------------+----------+
| RHEL 7 | PASS |
+------------------+----------+
| Arch Linux | PASS |
+------------------+----------+
| CentOS 8 | PASS |
+------------------+----------+
| Ubuntu 20.04 | PASS |
+------------------+----------+
| RHEL8 | PASS |
+------------------+----------+
| Ubuntu 18.04 | PASS |
+------------------+----------+
Ubuntu 18.04 ARM
Kernel: 5.4.0-53-generic
Compiler: gcc 9.3
Fedora 32
Kernel: 4.18.0-240.10.1.el8_3.x86_64
Compiler: gcc 10.2.1
CentOS Stream 8
Kernel: 4.18.0-240.10.1.el8_3.x86_64
Compiler: gcc 8.4.1 20200928
Fedora 31
Kernel: 4.18.0-240.10.1.el8_3.x86_64
Compiler: gcc 9.3.1
RHEL 7
Kernel: 4.18.0-240.10.1.el8_3.x86_64
Compiler: gcc 4.8.5 20150623 (Red Hat 4.8.5-44)
Arch Linux
Kernel: 4.18.0-240.10.1.el8_3.x86_64
Compiler: gcc 10.2.0
CentOS 8
Kernel: 4.18.0-240.10.1.el8_3.x86_64
Compiler: gcc 8.3.1 20191121 (Red Hat 8.3.1-5)
Ubuntu 20.04
Kernel: 4.18.0-240.10.1.el8_3.x86_64
Compiler: gcc 9.3.0-17ubuntu1~20.04
RHEL8
Kernel: 4.18.0-240.10.1.el8_3.x86_64
Compiler: gcc 8.3.1 20191121 (Red Hat 8.3.1-5)
Ubuntu 18.04
Kernel: 4.18.0-240.10.1.el8_3.x86_64
Compiler: gcc 7.5.0-3ubuntu1~18.04
To view detailed results, visit:
https://lab.dpdk.org/results/dashboard/patchsets/16843/
UNH-IOL DPDK Community Lab
To manage your email subscriptions, visit:
https://lab.dpdk.org/results/dashboard/preferences/subscriptions/
More information about the test-report
mailing list