|SUCCESS| pw105780-105781 [PATCH] [v2, 2/2] app/testpmd: add queue based pfc CLI options
dpdklab at iol.unh.edu
dpdklab at iol.unh.edu
Thu Jan 13 12:57:02 CET 2022
Test-Label: iol-x86_64-unit-testing
Test-Status: SUCCESS
http://dpdk.org/patch/105781
_Testing PASS_
Submitter: Jerin Jacob Kollanukkaran <jerinj at marvell.com>
Date: Thursday, January 13 2022 10:27:18
DPDK git baseline: Repo:dpdk
Branch: master
CommitID:fee17a1d290434f1b9f109d8a4bc575d9e61bb13
105780-105781 --> testing pass
Test environment and result as below:
+------------------+----------------+
| Environment | dpdk_unit_test |
+==================+================+
| CentOS Stream 8 | PASS |
+------------------+----------------+
| Arch Linux | PASS |
+------------------+----------------+
| CentOS 8 | PASS |
+------------------+----------------+
| RHEL8 | PASS |
+------------------+----------------+
| RHEL 7 | PASS |
+------------------+----------------+
| openSUSE Leap 15 | PASS |
+------------------+----------------+
| Fedora 31 | PASS |
+------------------+----------------+
| Ubuntu 20.04 | PASS |
+------------------+----------------+
| Fedora 32 | PASS |
+------------------+----------------+
| Fedora 34 | PASS |
+------------------+----------------+
| Fedora 33 | PASS |
+------------------+----------------+
| Fedora 34 clang | PASS |
+------------------+----------------+
| Ubuntu 18.04 | PASS |
+------------------+----------------+
CentOS Stream 8
Kernel: 4.18.0-240.10.1.el8_3.x86_64
Compiler: gcc 8.4.1 20200928
Arch Linux
Kernel: 5.4.0-73-generic
Compiler: gcc 11.1.0
CentOS 8
Kernel: 4.18.0-240.10.1.el8_3.x86_64
Compiler: gcc 8.3.1 20191121 (Red Hat 8.3.1-5)
RHEL8
Kernel: 4.18.0-240.10.1.el8_3.x86_64
Compiler: gcc 8.3.1 20191121 (Red Hat 8.3.1-5)
RHEL 7
Kernel: 4.18.0-240.10.1.el8_3.x86_64
Compiler: gcc 4.8.5 20150623 (Red Hat 4.8.5-44)
openSUSE Leap 15
Kernel: 4.18.0-240.10.1.el8_3.x86_64
Compiler: gcc 7.5.0
Fedora 31
Kernel: 4.18.0-240.10.1.el8_3.x86_64
Compiler: gcc 9.3.1
Ubuntu 20.04
Kernel: 4.18.0-240.10.1.el8_3.x86_64
Compiler: gcc 9.3.0-17ubuntu1~20.04
Fedora 32
Kernel: 4.18.0-240.10.1.el8_3.x86_64
Compiler: gcc 10.2.1
Fedora 34
Kernel: 5.4.0-72-generic
Compiler: gcc 11.1.1 20210428 (Red Hat 11.1.1-1)
Fedora 33
Kernel: 5.4.0-72-generic
Compiler: gcc 10.3.1 20210422 (Red Hat 10.3.1-1)
Fedora 34 clang
Kernel: 5.4.0-72-generic
Compiler: clang 12.0.0 (Fedora 12.0.0-0.3.rc1.fc34)
Ubuntu 18.04
Kernel: 4.18.0-240.10.1.el8_3.x86_64
Compiler: gcc 7.5.0-3ubuntu1~18.04
To view detailed results, visit:
https://lab.dpdk.org/results/dashboard/patchsets/20653/
UNH-IOL DPDK Community Lab
To manage your email subscriptions, visit:
https://lab.dpdk.org/results/dashboard/preferences/subscriptions/
More information about the test-report
mailing list