|SUCCESS| pw105901 [PATCH] [v2] build: add missing arch define for Arm
dpdklab at iol.unh.edu
dpdklab at iol.unh.edu
Mon Jan 17 15:33:02 CET 2022
Test-Label: iol-x86_64-unit-testing
Test-Status: SUCCESS
http://dpdk.org/patch/105901
_Testing PASS_
Submitter: Ruifeng Wang <ruifeng.wang at arm.com>
Date: Monday, January 17 2022 07:15:33
DPDK git baseline: Repo:dpdk
Branch: master
CommitID:6f716880ee53ac1e50c9c75dc749886e3257bb8f
105901 --> testing pass
Test environment and result as below:
+------------------+----------------+
| Environment | dpdk_unit_test |
+==================+================+
| openSUSE Leap 15 | PASS |
+------------------+----------------+
| CentOS Stream 8 | PASS |
+------------------+----------------+
| Fedora 32 | PASS |
+------------------+----------------+
| Arch Linux | PASS |
+------------------+----------------+
| Fedora 31 | PASS |
+------------------+----------------+
| RHEL8 | PASS |
+------------------+----------------+
| Ubuntu 18.04 | PASS |
+------------------+----------------+
| Ubuntu 20.04 | PASS |
+------------------+----------------+
| CentOS 8 | PASS |
+------------------+----------------+
| RHEL 7 | PASS |
+------------------+----------------+
| Fedora 34 | PASS |
+------------------+----------------+
| Fedora 33 | PASS |
+------------------+----------------+
| Fedora 34 clang | PASS |
+------------------+----------------+
openSUSE Leap 15
Kernel: 4.18.0-240.10.1.el8_3.x86_64
Compiler: gcc 7.5.0
CentOS Stream 8
Kernel: 4.18.0-240.10.1.el8_3.x86_64
Compiler: gcc 8.4.1 20200928
Fedora 32
Kernel: 4.18.0-240.10.1.el8_3.x86_64
Compiler: gcc 10.2.1
Arch Linux
Kernel: 5.4.0-73-generic
Compiler: gcc 11.1.0
Fedora 31
Kernel: 4.18.0-240.10.1.el8_3.x86_64
Compiler: gcc 9.3.1
RHEL8
Kernel: 4.18.0-240.10.1.el8_3.x86_64
Compiler: gcc 8.3.1 20191121 (Red Hat 8.3.1-5)
Ubuntu 18.04
Kernel: 4.18.0-240.10.1.el8_3.x86_64
Compiler: gcc 7.5.0-3ubuntu1~18.04
Ubuntu 20.04
Kernel: 4.18.0-240.10.1.el8_3.x86_64
Compiler: gcc 9.3.0-17ubuntu1~20.04
CentOS 8
Kernel: 4.18.0-240.10.1.el8_3.x86_64
Compiler: gcc 8.3.1 20191121 (Red Hat 8.3.1-5)
RHEL 7
Kernel: 4.18.0-240.10.1.el8_3.x86_64
Compiler: gcc 4.8.5 20150623 (Red Hat 4.8.5-44)
Fedora 34
Kernel: 5.4.0-72-generic
Compiler: gcc 11.1.1 20210428 (Red Hat 11.1.1-1)
Fedora 33
Kernel: 5.4.0-72-generic
Compiler: gcc 10.3.1 20210422 (Red Hat 10.3.1-1)
Fedora 34 clang
Kernel: 5.4.0-72-generic
Compiler: clang 12.0.0 (Fedora 12.0.0-0.3.rc1.fc34)
To view detailed results, visit:
https://lab.dpdk.org/results/dashboard/patchsets/20683/
UNH-IOL DPDK Community Lab
To manage your email subscriptions, visit:
https://lab.dpdk.org/results/dashboard/preferences/subscriptions/
More information about the test-report
mailing list