|SUCCESS| pw134723 [PATCH] [v2] lib/ethdev: modified the definition
dpdklab at iol.unh.edu
dpdklab at iol.unh.edu
Fri Dec 1 03:18:38 CET 2023
Test-Label: iol-unit-arm64-testing
Test-Status: SUCCESS
http://dpdk.org/patch/134723
_Testing PASS_
Submitter: Sunyang Wu <sunyang.wu at jaguarmicro.com>
Date: Thursday, November 30 2023 06:22:21
DPDK git baseline: Repo:dpdk
Branch: master
CommitID:eeb0605f118dae66e80faa44f7b3e88748032353
134723 --> testing pass
Test environment and result as below:
+--------------------------+------------------------------+----------------+---------------------------+
| Environment | cryptodev_sw_snow3g_autotest | dpdk_unit_test | cryptodev_sw_zuc_autotest |
+==========================+==============================+================+===========================+
| Debian 11 (arm) | PASS | SKIPPED | PASS |
+--------------------------+------------------------------+----------------+---------------------------+
| Fedora 37 (ARM) | SKIPPED | PASS | SKIPPED |
+--------------------------+------------------------------+----------------+---------------------------+
| CentOS Stream 9 (ARM) | SKIPPED | PASS | SKIPPED |
+--------------------------+------------------------------+----------------+---------------------------+
| Debian 11 (Buster) (ARM) | SKIPPED | PASS | SKIPPED |
+--------------------------+------------------------------+----------------+---------------------------+
| Fedora 38 (ARM) | SKIPPED | PASS | SKIPPED |
+--------------------------+------------------------------+----------------+---------------------------+
| Fedora 38 (ARM Clang) | SKIPPED | PASS | SKIPPED |
+--------------------------+------------------------------+----------------+---------------------------+
| Ubuntu 20.04 (ARM) | SKIPPED | PASS | SKIPPED |
+--------------------------+------------------------------+----------------+---------------------------+
Debian 11 (arm)
Kernel: Container Host Kernel
Compiler: gcc 10.2.1
Fedora 37 (ARM)
Kernel: Depends on container host
Compiler: gcc 12.3.1
CentOS Stream 9 (ARM)
Kernel: Container Host Kernel
Compiler: gcc 11.3.1
Debian 11 (Buster) (ARM)
Kernel: Container Host Kernel
Compiler: gcc 10.2.1
Fedora 38 (ARM)
Kernel: Depends on container host
Compiler: gcc 13.1.1
Fedora 38 (ARM Clang)
Kernel: Depends on container host
Compiler: clang 16.0.3
Ubuntu 20.04 (ARM)
Kernel: Container Host Kernel
Compiler: gcc 9.4.0
To view detailed results, visit:
https://lab.dpdk.org/results/dashboard/patchsets/28498/
UNH-IOL DPDK Community Lab
To manage your email subscriptions, visit:
https://lab.dpdk.org/results/dashboard/preferences/subscriptions/
More information about the test-report
mailing list