|SUCCESS| pw134691 [PATCH] doc: add sunset clause for experimental t
dpdklab at iol.unh.edu
dpdklab at iol.unh.edu
Fri Dec 1 07:34:02 CET 2023
Test-Label: iol-compile-amd64-testing
Test-Status: SUCCESS
http://dpdk.org/patch/134691
_Testing PASS_
Submitter: Stephen Hemminger <stephen at networkplumber.org>
Date: Wednesday, November 29 2023 15:27:38
DPDK git baseline: Repo:dpdk
Branch: master
CommitID:eeb0605f118dae66e80faa44f7b3e88748032353
134691 --> testing pass
Test environment and result as below:
+------------------+--------------------+
| Environment | dpdk_meson_compile |
+==================+====================+
| FreeBSD 13 | PASS |
+------------------+--------------------+
| CentOS Stream 9 | PASS |
+------------------+--------------------+
| Debian Buster | PASS |
+------------------+--------------------+
| Fedora 37 | PASS |
+------------------+--------------------+
| Fedora 38 | PASS |
+------------------+--------------------+
| CentOS Stream 8 | PASS |
+------------------+--------------------+
| openSUSE Leap 15 | PASS |
+------------------+--------------------+
| Ubuntu 22.04 | PASS |
+------------------+--------------------+
| RHEL8 | PASS |
+------------------+--------------------+
| Alpine | PASS |
+------------------+--------------------+
FreeBSD 13
Kernel: 13.0
Compiler: clang 11.0.1
CentOS Stream 9
Kernel: 4.18.0-240.10.1.el8_3.x86_64
Compiler: gcc 11.3.1 20220421
Debian Buster
Kernel: 5.4.0-122-generic
Compiler: gcc 8.3.0-6
Fedora 37
Kernel: Depends on container host system
Compiler: gcc 12.3.1
Fedora 38
Kernel: Depends on container host
Compiler: gcc 13.1.1
CentOS Stream 8
Kernel: 4.18.0-240.10.1.el8_3.x86_64
Compiler: gcc 8.4.1 20200928
openSUSE Leap 15
Kernel: 4.18.0-240.10.1.el8_3.x86_64
Compiler: gcc 7.5.0
Ubuntu 22.04
Kernel: 4.18.0-240.10.1.el8_3.x86_64
Compiler: gcc 11.3.0
RHEL8
Kernel: 4.18.0-240.10.1.el8_3.x86_64
Compiler: gcc 8.3.1 20191121 (Red Hat 8.3.1-5)
Alpine
Kernel: 5.4.0-73-generic
Compiler: gcc (Alpine 10.3.1_git20210424) 10.3.1 20210424
To view detailed results, visit:
https://lab.dpdk.org/results/dashboard/patchsets/28490/
UNH-IOL DPDK Community Lab
To manage your email subscriptions, visit:
https://lab.dpdk.org/results/dashboard/preferences/subscriptions/
More information about the test-report
mailing list