|SUCCESS| pw134868-134873 [PATCH] [v2,5/5] vhost: enhance virtqueue
dpdklab at iol.unh.edu
dpdklab at iol.unh.edu
Tue Dec 5 15:41:20 CET 2023
Test-Label: iol-unit-arm64-testing
Test-Status: SUCCESS
http://dpdk.org/patch/134873
_Testing PASS_
Submitter: David Marchand <david.marchand at redhat.com>
Date: Tuesday, December 05 2023 09:45:35
DPDK git baseline: Repo:dpdk
Branch: master
CommitID:a526461b0764de52b09b073df84f9e87ec120c93
134868-134873 --> testing pass
Test environment and result as below:
+--------------------------+----------------+---------------------------+--------------+------------------------------+
| Environment | dpdk_unit_test | cryptodev_sw_zuc_autotest | lpm_autotest | cryptodev_sw_snow3g_autotest |
+==========================+================+===========================+==============+==============================+
| CentOS Stream 9 (ARM) | PASS | SKIPPED | SKIPPED | SKIPPED |
+--------------------------+----------------+---------------------------+--------------+------------------------------+
| Debian 11 (Buster) (ARM) | PASS | SKIPPED | SKIPPED | SKIPPED |
+--------------------------+----------------+---------------------------+--------------+------------------------------+
| Fedora 38 (ARM) | PASS | SKIPPED | SKIPPED | SKIPPED |
+--------------------------+----------------+---------------------------+--------------+------------------------------+
| Fedora 37 (ARM) | PASS | SKIPPED | SKIPPED | SKIPPED |
+--------------------------+----------------+---------------------------+--------------+------------------------------+
| Debian 11 (arm) | SKIPPED | PASS | SKIPPED | PASS |
+--------------------------+----------------+---------------------------+--------------+------------------------------+
| Ubuntu 20.04 ARM SVE | SKIPPED | SKIPPED | PASS | SKIPPED |
+--------------------------+----------------+---------------------------+--------------+------------------------------+
CentOS Stream 9 (ARM)
Kernel: Container Host Kernel
Compiler: gcc 11.3.1
Debian 11 (Buster) (ARM)
Kernel: Container Host Kernel
Compiler: gcc 10.2.1
Fedora 38 (ARM)
Kernel: Depends on container host
Compiler: gcc 13.1.1
Fedora 37 (ARM)
Kernel: Depends on container host
Compiler: gcc 12.3.1
Debian 11 (arm)
Kernel: Container Host Kernel
Compiler: gcc 10.2.1
Ubuntu 20.04 ARM SVE
Kernel: 5.4.0-80-generic
Compiler: gcc 10.3.0 (Ubuntu 10.3.0-1ubuntu1~20.04)
To view detailed results, visit:
https://lab.dpdk.org/results/dashboard/patchsets/28529/
UNH-IOL DPDK Community Lab
To manage your email subscriptions, visit:
https://lab.dpdk.org/results/dashboard/preferences/subscriptions/
More information about the test-report
mailing list