|SUCCESS| pw134952-134954 [PATCH] [v3,3/3] net/hns3: fix incorrect r
dpdklab at iol.unh.edu
dpdklab at iol.unh.edu
Fri Dec 8 13:02:17 CET 2023
Test-Label: iol-unit-arm64-testing
Test-Status: SUCCESS
http://dpdk.org/patch/134954
_Testing PASS_
Submitter: Jie Hai <haijie1 at huawei.com>
Date: Friday, December 08 2023 07:44:16
DPDK git baseline: Repo:dpdk
Branch: master
CommitID:f2d5afbb2c05d7647da7ea914887c52115652651
134952-134954 --> testing pass
Test environment and result as below:
+--------------------------+------------------------------+---------------------------+----------------+--------------+
| Environment | cryptodev_sw_snow3g_autotest | cryptodev_sw_zuc_autotest | dpdk_unit_test | lpm_autotest |
+==========================+==============================+===========================+================+==============+
| Debian 11 (arm) | PASS | PASS | SKIPPED | SKIPPED |
+--------------------------+------------------------------+---------------------------+----------------+--------------+
| CentOS Stream 9 (ARM) | SKIPPED | SKIPPED | PASS | SKIPPED |
+--------------------------+------------------------------+---------------------------+----------------+--------------+
| Debian 11 (Buster) (ARM) | SKIPPED | SKIPPED | PASS | SKIPPED |
+--------------------------+------------------------------+---------------------------+----------------+--------------+
| Fedora 38 (ARM) | SKIPPED | SKIPPED | PASS | SKIPPED |
+--------------------------+------------------------------+---------------------------+----------------+--------------+
| Fedora 37 (ARM) | SKIPPED | SKIPPED | PASS | SKIPPED |
+--------------------------+------------------------------+---------------------------+----------------+--------------+
| Ubuntu 20.04 (ARM) | SKIPPED | SKIPPED | PASS | SKIPPED |
+--------------------------+------------------------------+---------------------------+----------------+--------------+
| Ubuntu 20.04 ARM SVE | SKIPPED | SKIPPED | SKIPPED | PASS |
+--------------------------+------------------------------+---------------------------+----------------+--------------+
Debian 11 (arm)
Kernel: Container Host Kernel
Compiler: gcc 10.2.1
CentOS Stream 9 (ARM)
Kernel: Container Host Kernel
Compiler: gcc 11.3.1
Debian 11 (Buster) (ARM)
Kernel: Container Host Kernel
Compiler: gcc 10.2.1
Fedora 38 (ARM)
Kernel: Depends on container host
Compiler: gcc 13.1.1
Fedora 37 (ARM)
Kernel: Depends on container host
Compiler: gcc 12.3.1
Ubuntu 20.04 (ARM)
Kernel: Container Host Kernel
Compiler: gcc 9.4.0
Ubuntu 20.04 ARM SVE
Kernel: 5.4.0-80-generic
Compiler: gcc 10.3.0 (Ubuntu 10.3.0-1ubuntu1~20.04)
To view detailed results, visit:
https://lab.dpdk.org/results/dashboard/patchsets/28564/
UNH-IOL DPDK Community Lab
To manage your email subscriptions, visit:
https://lab.dpdk.org/results/dashboard/preferences/subscriptions/
More information about the test-report
mailing list