|SUCCESS| pw134975 [PATCH] ixgbe: fix interrupt clear mask for eimc
dpdklab at iol.unh.edu
dpdklab at iol.unh.edu
Fri Dec 8 20:43:58 CET 2023
Test-Label: iol-abi-testing
Test-Status: SUCCESS
http://dpdk.org/patch/134975
_Testing PASS_
Submitter: Simon Ellmann <simon.ellmann at tum.de>
Date: Friday, December 08 2023 15:44:10
DPDK git baseline: Repo:dpdk
Branch: master
CommitID:f2d5afbb2c05d7647da7ea914887c52115652651
134975 --> testing pass
Test environment and result as below:
+------------------+----------+
| Environment | abi_test |
+==================+==========+
| Debian Buster | PASS |
+------------------+----------+
| Fedora 37 | PASS |
+------------------+----------+
| Ubuntu 22.04 | PASS |
+------------------+----------+
| openSUSE Leap 15 | PASS |
+------------------+----------+
| Debian Bullseye | PASS |
+------------------+----------+
| CentOS Stream 8 | PASS |
+------------------+----------+
| RHEL8 | PASS |
+------------------+----------+
| CentOS Stream 9 | PASS |
+------------------+----------+
| Fedora 38 | PASS |
+------------------+----------+
Debian Buster
Kernel: 5.4.0-122-generic
Compiler: gcc 8.3.0-6
Fedora 37
Kernel: Depends on container host system
Compiler: gcc 12.3.1
Ubuntu 22.04
Kernel: 4.18.0-240.10.1.el8_3.x86_64
Compiler: gcc 11.3.0
openSUSE Leap 15
Kernel: 4.18.0-240.10.1.el8_3.x86_64
Compiler: gcc 7.5.0
Debian Bullseye
Kernel: 5.4.0-122-generic
Compiler: gcc 10.2.1-6
CentOS Stream 8
Kernel: 4.18.0-240.10.1.el8_3.x86_64
Compiler: gcc 8.4.1 20200928
RHEL8
Kernel: 4.18.0-240.10.1.el8_3.x86_64
Compiler: gcc 8.3.1 20191121 (Red Hat 8.3.1-5)
CentOS Stream 9
Kernel: 4.18.0-240.10.1.el8_3.x86_64
Compiler: gcc 11.3.1 20220421
Fedora 38
Kernel: Depends on container host
Compiler: clang 16.0.3
To view detailed results, visit:
https://lab.dpdk.org/results/dashboard/patchsets/28570/
UNH-IOL DPDK Community Lab
To manage your email subscriptions, visit:
https://lab.dpdk.org/results/dashboard/preferences/subscriptions/
More information about the test-report
mailing list