|SUCCESS| pw134979 [PATCH] [v9] gro: fix reordering of packets in GR
dpdklab at iol.unh.edu
dpdklab at iol.unh.edu
Sun Dec 10 06:03:50 CET 2023
Test-Label: iol-unit-arm64-testing
Test-Status: SUCCESS
http://dpdk.org/patch/134979
_Testing PASS_
Submitter: Kumara Parameshwaran <kumaraparamesh92 at gmail.com>
Date: Friday, December 08 2023 18:17:38
DPDK git baseline: Repo:dpdk
Branch: master
CommitID:f2d5afbb2c05d7647da7ea914887c52115652651
134979 --> testing pass
Test environment and result as below:
+--------------------------+----------------+------------------------------+---------------------------+
| Environment | dpdk_unit_test | cryptodev_sw_snow3g_autotest | cryptodev_sw_zuc_autotest |
+==========================+================+==============================+===========================+
| Fedora 37 (ARM) | PASS | SKIPPED | SKIPPED |
+--------------------------+----------------+------------------------------+---------------------------+
| Ubuntu 20.04 (ARM) | PASS | SKIPPED | SKIPPED |
+--------------------------+----------------+------------------------------+---------------------------+
| CentOS Stream 9 (ARM) | PASS | SKIPPED | SKIPPED |
+--------------------------+----------------+------------------------------+---------------------------+
| Fedora 38 (ARM) | PASS | SKIPPED | SKIPPED |
+--------------------------+----------------+------------------------------+---------------------------+
| Debian 11 (Buster) (ARM) | PASS | SKIPPED | SKIPPED |
+--------------------------+----------------+------------------------------+---------------------------+
| Debian 11 (arm) | SKIPPED | PASS | PASS |
+--------------------------+----------------+------------------------------+---------------------------+
Fedora 37 (ARM)
Kernel: Depends on container host
Compiler: gcc 12.3.1
Ubuntu 20.04 (ARM)
Kernel: Container Host Kernel
Compiler: gcc 9.4.0
CentOS Stream 9 (ARM)
Kernel: Container Host Kernel
Compiler: gcc 11.3.1
Fedora 38 (ARM)
Kernel: Depends on container host
Compiler: gcc 13.1.1
Debian 11 (Buster) (ARM)
Kernel: Container Host Kernel
Compiler: gcc 10.2.1
Debian 11 (arm)
Kernel: Container Host Kernel
Compiler: gcc 10.2.1
To view detailed results, visit:
https://lab.dpdk.org/results/dashboard/patchsets/28574/
UNH-IOL DPDK Community Lab
To manage your email subscriptions, visit:
https://lab.dpdk.org/results/dashboard/preferences/subscriptions/
More information about the test-report
mailing list