|SUCCESS| pw134995-135001 [PATCH] [7/7] net/nfp: support setting FEC
dpdklab at iol.unh.edu
dpdklab at iol.unh.edu
Mon Dec 11 05:09:59 CET 2023
Test-Label: iol-abi-testing
Test-Status: SUCCESS
http://dpdk.org/patch/135001
_Testing PASS_
Submitter: Chaoyong He <chaoyong.he at corigine.com>
Date: Monday, December 11 2023 03:08:58
DPDK git baseline: Repo:dpdk-next-net
Branch: master
CommitID:0448ebbcd3542959b942b3e802000d7fb4baaad6
134995-135001 --> testing pass
Test environment and result as below:
+------------------+----------+
| Environment | abi_test |
+==================+==========+
| openSUSE Leap 15 | PASS |
+------------------+----------+
| RHEL8 | PASS |
+------------------+----------+
| Debian Buster | PASS |
+------------------+----------+
| Debian Bullseye | PASS |
+------------------+----------+
| CentOS Stream 8 | PASS |
+------------------+----------+
| Fedora 37 | PASS |
+------------------+----------+
openSUSE Leap 15
Kernel: 4.18.0-240.10.1.el8_3.x86_64
Compiler: gcc 7.5.0
RHEL8
Kernel: 4.18.0-240.10.1.el8_3.x86_64
Compiler: gcc 8.3.1 20191121 (Red Hat 8.3.1-5)
Debian Buster
Kernel: 5.4.0-122-generic
Compiler: gcc 8.3.0-6
Debian Bullseye
Kernel: 5.4.0-122-generic
Compiler: gcc 10.2.1-6
CentOS Stream 8
Kernel: 4.18.0-240.10.1.el8_3.x86_64
Compiler: gcc 8.4.1 20200928
Fedora 37
Kernel: Depends on container host system
Compiler: gcc 12.3.1
To view detailed results, visit:
https://lab.dpdk.org/results/dashboard/patchsets/28577/
UNH-IOL DPDK Community Lab
To manage your email subscriptions, visit:
https://lab.dpdk.org/results/dashboard/preferences/subscriptions/
More information about the test-report
mailing list