|SUCCESS| pw135075-135100 [PATCH] [26/26] mempool/dpaa, mempool/dpaa
dpdklab at iol.unh.edu
dpdklab at iol.unh.edu
Wed Dec 13 04:21:49 CET 2023
Test-Label: iol-unit-arm64-testing
Test-Status: SUCCESS
http://dpdk.org/patch/135100
_Testing PASS_
Submitter: Stephen Hemminger <stephen at networkplumber.org>
Date: Wednesday, December 13 2023 01:42:42
DPDK git baseline: Repo:dpdk
Branch: master
CommitID:f2d5afbb2c05d7647da7ea914887c52115652651
135075-135100 --> testing pass
Test environment and result as below:
+-----------------------+------------------------------+----------------+--------------+
| Environment | cryptodev_sw_snow3g_autotest | dpdk_unit_test | lpm_autotest |
+=======================+==============================+================+==============+
| Debian 11 (arm) | PASS | SKIPPED | SKIPPED |
+-----------------------+------------------------------+----------------+--------------+
| CentOS Stream 9 (ARM) | SKIPPED | PASS | SKIPPED |
+-----------------------+------------------------------+----------------+--------------+
| Ubuntu 20.04 ARM SVE | SKIPPED | SKIPPED | PASS |
+-----------------------+------------------------------+----------------+--------------+
Debian 11 (arm)
Kernel: Container Host Kernel
Compiler: gcc 10.2.1
CentOS Stream 9 (ARM)
Kernel: Container Host Kernel
Compiler: gcc 11.3.1
Ubuntu 20.04 ARM SVE
Kernel: 5.4.0-80-generic
Compiler: gcc 10.3.0 (Ubuntu 10.3.0-1ubuntu1~20.04)
To view detailed results, visit:
https://lab.dpdk.org/results/dashboard/patchsets/28603/
UNH-IOL DPDK Community Lab
To manage your email subscriptions, visit:
https://lab.dpdk.org/results/dashboard/preferences/subscriptions/
More information about the test-report
mailing list