|SUCCESS| pw135101-135105 [PATCH] [5/5] net/nfp: use ctrl extend to
dpdklab at iol.unh.edu
dpdklab at iol.unh.edu
Wed Dec 13 07:42:13 CET 2023
Test-Label: iol-unit-arm64-testing
Test-Status: SUCCESS
http://dpdk.org/patch/135105
_Testing PASS_
Submitter: Chaoyong He <chaoyong.he at corigine.com>
Date: Wednesday, December 13 2023 03:24:16
DPDK git baseline: Repo:dpdk-next-net
Branch: master
CommitID:ba82ff9c75598c3fb1eb81028a4ff6a4794a972a
135101-135105 --> testing pass
Test environment and result as below:
+--------------------------+----------------+---------------------------+------------------------------+--------------+
| Environment | dpdk_unit_test | cryptodev_sw_zuc_autotest | cryptodev_sw_snow3g_autotest | lpm_autotest |
+==========================+================+===========================+==============================+==============+
| Debian 11 (Buster) (ARM) | PASS | SKIPPED | SKIPPED | SKIPPED |
+--------------------------+----------------+---------------------------+------------------------------+--------------+
| CentOS Stream 9 (ARM) | PASS | SKIPPED | SKIPPED | SKIPPED |
+--------------------------+----------------+---------------------------+------------------------------+--------------+
| Fedora 38 (ARM) | PASS | SKIPPED | SKIPPED | SKIPPED |
+--------------------------+----------------+---------------------------+------------------------------+--------------+
| Fedora 37 (ARM) | PASS | SKIPPED | SKIPPED | SKIPPED |
+--------------------------+----------------+---------------------------+------------------------------+--------------+
| Ubuntu 20.04 (ARM) | PASS | SKIPPED | SKIPPED | SKIPPED |
+--------------------------+----------------+---------------------------+------------------------------+--------------+
| Debian 11 (arm) | SKIPPED | PASS | PASS | SKIPPED |
+--------------------------+----------------+---------------------------+------------------------------+--------------+
| Ubuntu 20.04 ARM SVE | SKIPPED | SKIPPED | SKIPPED | PASS |
+--------------------------+----------------+---------------------------+------------------------------+--------------+
Debian 11 (Buster) (ARM)
Kernel: Container Host Kernel
Compiler: gcc 10.2.1
CentOS Stream 9 (ARM)
Kernel: Container Host Kernel
Compiler: gcc 11.3.1
Fedora 38 (ARM)
Kernel: Depends on container host
Compiler: gcc 13.1.1
Fedora 37 (ARM)
Kernel: Depends on container host
Compiler: gcc 12.3.1
Ubuntu 20.04 (ARM)
Kernel: Container Host Kernel
Compiler: gcc 9.4.0
Debian 11 (arm)
Kernel: Container Host Kernel
Compiler: gcc 10.2.1
Ubuntu 20.04 ARM SVE
Kernel: 5.4.0-80-generic
Compiler: gcc 10.3.0 (Ubuntu 10.3.0-1ubuntu1~20.04)
To view detailed results, visit:
https://lab.dpdk.org/results/dashboard/patchsets/28604/
UNH-IOL DPDK Community Lab
To manage your email subscriptions, visit:
https://lab.dpdk.org/results/dashboard/preferences/subscriptions/
More information about the test-report
mailing list