|SUCCESS| [GIT MASTER] 7849366693a2a2cbc5279a6bfd39cbb457fe7c96
dpdklab at iol.unh.edu
dpdklab at iol.unh.edu
Wed Dec 13 08:17:28 CET 2023
_Testing PASS_
Branch: tags/v22.11
7849366693a2a2cbc5279a6bfd39cbb457fe7c96 --> testing pass
Test environment and result as below:
+-----------------+----------+
| Environment | abi_test |
+=================+==========+
| CentOS Stream 9 | PASS |
+-----------------+----------+
| Debian Buster | PASS |
+-----------------+----------+
| CentOS Stream 8 | PASS |
+-----------------+----------+
CentOS Stream 9
Kernel: 4.18.0-240.10.1.el8_3.x86_64
Compiler: gcc 11.3.1 20220421
Debian Buster
Kernel: 5.4.0-122-generic
Compiler: gcc 8.3.0-6
CentOS Stream 8
Kernel: 4.18.0-240.10.1.el8_3.x86_64
Compiler: gcc 8.4.1 20200928
To view detailed results, visit:
https://lab.dpdk.org/results/dashboard/tarballs/27316/
UNH-IOL DPDK Community Lab
To manage your email subscriptions, visit:
https://lab.dpdk.org/results/dashboard/preferences/subscriptions/
More information about the test-report
mailing list