|SUCCESS| [GIT MASTER] 12c151767f1dee2a7636c457e522bfd6447996f7
dpdklab at iol.unh.edu
dpdklab at iol.unh.edu
Wed Dec 13 16:20:38 CET 2023
_Testing PASS_
Branch: 22.11-staging
12c151767f1dee2a7636c457e522bfd6447996f7 --> testing pass
Test environment and result as below:
+-----------------------+--------------------+
| Environment | dpdk_meson_compile |
+=======================+====================+
| Ubuntu 20.04 ARM SVE | PASS |
+-----------------------+--------------------+
| Fedora 38 (ARM) | PASS |
+-----------------------+--------------------+
| Fedora 37 (ARM) | PASS |
+-----------------------+--------------------+
| Ubuntu 20.04 (ARM) | PASS |
+-----------------------+--------------------+
| CentOS Stream 9 (ARM) | PASS |
+-----------------------+--------------------+
Ubuntu 20.04 ARM SVE
Kernel: 5.4.0-80-generic
Compiler: gcc 10.3.0 (Ubuntu 10.3.0-1ubuntu1~20.04)
Fedora 38 (ARM)
Kernel: Depends on container host
Compiler: gcc 13.1.1
Fedora 37 (ARM)
Kernel: Depends on container host
Compiler: gcc 12.3.1
Ubuntu 20.04 (ARM)
Kernel: Container Host Kernel
Compiler: gcc 9.4.0
CentOS Stream 9 (ARM)
Kernel: Container Host Kernel
Compiler: gcc 11.3.1
To view detailed results, visit:
https://lab.dpdk.org/results/dashboard/tarballs/27320/
UNH-IOL DPDK Community Lab
To manage your email subscriptions, visit:
https://lab.dpdk.org/results/dashboard/preferences/subscriptions/
More information about the test-report
mailing list