|SUCCESS| pw135173 [PATCH] [v2] net/ice: fix link update
dpdklab at iol.unh.edu
dpdklab at iol.unh.edu
Thu Dec 14 02:20:07 CET 2023
Test-Label: iol-unit-arm64-testing
Test-Status: SUCCESS
http://dpdk.org/patch/135173
_Testing PASS_
Submitter: Qi Zhang <qi.z.zhang at intel.com>
Date: Thursday, December 14 2023 08:40:54
DPDK git baseline: Repo:dpdk
Branch: master
CommitID:f2d5afbb2c05d7647da7ea914887c52115652651
135173 --> testing pass
Test environment and result as below:
+--------------------------+----------------+---------------------------+
| Environment | dpdk_unit_test | cryptodev_sw_zuc_autotest |
+==========================+================+===========================+
| Fedora 37 (ARM) | PASS | SKIPPED |
+--------------------------+----------------+---------------------------+
| CentOS Stream 9 (ARM) | PASS | SKIPPED |
+--------------------------+----------------+---------------------------+
| Debian 11 (Buster) (ARM) | PASS | SKIPPED |
+--------------------------+----------------+---------------------------+
| Fedora 38 (ARM) | PASS | SKIPPED |
+--------------------------+----------------+---------------------------+
| Debian 11 (arm) | SKIPPED | PASS |
+--------------------------+----------------+---------------------------+
Fedora 37 (ARM)
Kernel: Depends on container host
Compiler: gcc 12.3.1
CentOS Stream 9 (ARM)
Kernel: Container Host Kernel
Compiler: gcc 11.3.1
Debian 11 (Buster) (ARM)
Kernel: Container Host Kernel
Compiler: gcc 10.2.1
Fedora 38 (ARM)
Kernel: Depends on container host
Compiler: gcc 13.1.1
Debian 11 (arm)
Kernel: Container Host Kernel
Compiler: gcc 10.2.1
To view detailed results, visit:
https://lab.dpdk.org/results/dashboard/patchsets/28612/
UNH-IOL DPDK Community Lab
To manage your email subscriptions, visit:
https://lab.dpdk.org/results/dashboard/preferences/subscriptions/
More information about the test-report
mailing list