|SUCCESS| pw135187-135188 [PATCH] [2/2] net/cnxk: support PPPoE flow
dpdklab at iol.unh.edu
dpdklab at iol.unh.edu
Thu Dec 14 14:26:14 CET 2023
Test-Label: iol-unit-arm64-testing
Test-Status: SUCCESS
http://dpdk.org/patch/135188
_Testing PASS_
Submitter: Satheesh Paul Antonysamy <psatheesh at marvell.com>
Date: Thursday, December 14 2023 07:17:59
DPDK git baseline: Repo:dpdk
Branch: master
CommitID:e5dc404d33ac1c6cea5c62a88489746c5cb5e35e
135187-135188 --> testing pass
Test environment and result as below:
+--------------------------+----------------+---------------------------+--------------+------------------------------+
| Environment | dpdk_unit_test | cryptodev_sw_zuc_autotest | lpm_autotest | cryptodev_sw_snow3g_autotest |
+==========================+================+===========================+==============+==============================+
| CentOS Stream 9 (ARM) | PASS | SKIPPED | SKIPPED | SKIPPED |
+--------------------------+----------------+---------------------------+--------------+------------------------------+
| Fedora 37 (ARM) | PASS | SKIPPED | SKIPPED | SKIPPED |
+--------------------------+----------------+---------------------------+--------------+------------------------------+
| Debian 11 (Buster) (ARM) | PASS | SKIPPED | SKIPPED | SKIPPED |
+--------------------------+----------------+---------------------------+--------------+------------------------------+
| Ubuntu 20.04 (ARM) | PASS | SKIPPED | SKIPPED | SKIPPED |
+--------------------------+----------------+---------------------------+--------------+------------------------------+
| Fedora 38 (ARM Clang) | PASS | SKIPPED | SKIPPED | SKIPPED |
+--------------------------+----------------+---------------------------+--------------+------------------------------+
| Debian 11 (arm) | SKIPPED | PASS | SKIPPED | PASS |
+--------------------------+----------------+---------------------------+--------------+------------------------------+
| Ubuntu 20.04 ARM SVE | SKIPPED | SKIPPED | PASS | SKIPPED |
+--------------------------+----------------+---------------------------+--------------+------------------------------+
CentOS Stream 9 (ARM)
Kernel: Container Host Kernel
Compiler: gcc 11.3.1
Fedora 37 (ARM)
Kernel: Depends on container host
Compiler: gcc 12.3.1
Debian 11 (Buster) (ARM)
Kernel: Container Host Kernel
Compiler: gcc 10.2.1
Ubuntu 20.04 (ARM)
Kernel: Container Host Kernel
Compiler: gcc 9.4.0
Fedora 38 (ARM Clang)
Kernel: Depends on container host
Compiler: clang 16.0.3
Debian 11 (arm)
Kernel: Container Host Kernel
Compiler: gcc 10.2.1
Ubuntu 20.04 ARM SVE
Kernel: 5.4.0-80-generic
Compiler: gcc 10.3.0 (Ubuntu 10.3.0-1ubuntu1~20.04)
To view detailed results, visit:
https://lab.dpdk.org/results/dashboard/patchsets/28619/
UNH-IOL DPDK Community Lab
To manage your email subscriptions, visit:
https://lab.dpdk.org/results/dashboard/preferences/subscriptions/
More information about the test-report
mailing list