|SUCCESS| pw135184-135186 [PATCH] [v2,3/3] net/iavf: add Tx LLDP com
dpdklab at iol.unh.edu
dpdklab at iol.unh.edu
Thu Dec 14 15:22:32 CET 2023
Test-Label: iol-abi-testing
Test-Status: SUCCESS
http://dpdk.org/patch/135186
_Testing PASS_
Submitter: Zhichao Zeng <zhichaox.zeng at intel.com>
Date: Thursday, December 14 2023 06:58:57
DPDK git baseline: Repo:dpdk
Branch: master
CommitID:e5dc404d33ac1c6cea5c62a88489746c5cb5e35e
135184-135186 --> testing pass
Test environment and result as below:
+-----------------+----------+
| Environment | abi_test |
+=================+==========+
| CentOS Stream 9 | PASS |
+-----------------+----------+
| Fedora 38 | PASS |
+-----------------+----------+
| CentOS Stream 8 | PASS |
+-----------------+----------+
| Debian Bullseye | PASS |
+-----------------+----------+
| Fedora 37 | PASS |
+-----------------+----------+
CentOS Stream 9
Kernel: 4.18.0-240.10.1.el8_3.x86_64
Compiler: gcc 11.3.1 20220421
Fedora 38
Kernel: Depends on container host
Compiler: clang 16.0.3
CentOS Stream 8
Kernel: 4.18.0-240.10.1.el8_3.x86_64
Compiler: gcc 8.4.1 20200928
Debian Bullseye
Kernel: 5.4.0-122-generic
Compiler: gcc 10.2.1-6
Fedora 37
Kernel: Depends on container host system
Compiler: gcc 12.3.1
To view detailed results, visit:
https://lab.dpdk.org/results/dashboard/patchsets/28618/
UNH-IOL DPDK Community Lab
To manage your email subscriptions, visit:
https://lab.dpdk.org/results/dashboard/preferences/subscriptions/
More information about the test-report
mailing list