|SUCCESS| pw135199 [PATCH] app/test: remove ifdefs for cmdline libra
dpdklab at iol.unh.edu
dpdklab at iol.unh.edu
Thu Dec 14 16:32:25 CET 2023
Test-Label: iol-compile-arm64-testing
Test-Status: SUCCESS
http://dpdk.org/patch/135199
_Testing PASS_
Submitter: Bruce Richardson <bruce.richardson at intel.com>
Date: Thursday, December 14 2023 11:30:21
DPDK git baseline: Repo:dpdk
Branch: master
CommitID:e5dc404d33ac1c6cea5c62a88489746c5cb5e35e
135199 --> testing pass
Test environment and result as below:
+--------------------------+--------------------+
| Environment | dpdk_meson_compile |
+==========================+====================+
| Ubuntu 20.04 ARM SVE | PASS |
+--------------------------+--------------------+
| Fedora 37 (ARM) | PASS |
+--------------------------+--------------------+
| Debian 11 (Buster) (ARM) | PASS |
+--------------------------+--------------------+
| Fedora 38 (ARM) | PASS |
+--------------------------+--------------------+
| Ubuntu 20.04 (ARM) | PASS |
+--------------------------+--------------------+
Ubuntu 20.04 ARM SVE
Kernel: 5.4.0-80-generic
Compiler: gcc 10.3.0 (Ubuntu 10.3.0-1ubuntu1~20.04)
Fedora 37 (ARM)
Kernel: Depends on container host
Compiler: gcc 12.3.1
Debian 11 (Buster) (ARM)
Kernel: Container Host Kernel
Compiler: gcc 10.2.1
Fedora 38 (ARM)
Kernel: Depends on container host
Compiler: gcc 13.1.1
Ubuntu 20.04 (ARM)
Kernel: Container Host Kernel
Compiler: gcc 9.4.0
To view detailed results, visit:
https://lab.dpdk.org/results/dashboard/patchsets/28625/
UNH-IOL DPDK Community Lab
To manage your email subscriptions, visit:
https://lab.dpdk.org/results/dashboard/preferences/subscriptions/
More information about the test-report
mailing list