|SUCCESS| pw135201-135202 [PATCH] [v2,2/2] net/cnxk: support PPPoE f
dpdklab at iol.unh.edu
dpdklab at iol.unh.edu
Thu Dec 14 18:13:14 CET 2023
Test-Label: iol-unit-arm64-testing
Test-Status: SUCCESS
http://dpdk.org/patch/135202
_Testing PASS_
Submitter: Satheesh Paul Antonysamy <psatheesh at marvell.com>
Date: Thursday, December 14 2023 14:33:22
DPDK git baseline: Repo:dpdk-next-net-mrvl
Branch: master
CommitID:a37132a27ff8941316ca1a0194ba72780d22abfd
135201-135202 --> testing pass
Test environment and result as below:
+--------------------------+------------------------------+--------------+----------------+---------------------------+
| Environment | cryptodev_sw_snow3g_autotest | lpm_autotest | dpdk_unit_test | cryptodev_sw_zuc_autotest |
+==========================+==============================+==============+================+===========================+
| Debian 11 (arm) | PASS | SKIPPED | SKIPPED | PASS |
+--------------------------+------------------------------+--------------+----------------+---------------------------+
| Ubuntu 20.04 ARM SVE | SKIPPED | PASS | SKIPPED | SKIPPED |
+--------------------------+------------------------------+--------------+----------------+---------------------------+
| CentOS Stream 9 (ARM) | SKIPPED | SKIPPED | PASS | SKIPPED |
+--------------------------+------------------------------+--------------+----------------+---------------------------+
| Debian 11 (Buster) (ARM) | SKIPPED | SKIPPED | PASS | SKIPPED |
+--------------------------+------------------------------+--------------+----------------+---------------------------+
Debian 11 (arm)
Kernel: Container Host Kernel
Compiler: gcc 10.2.1
Ubuntu 20.04 ARM SVE
Kernel: 5.4.0-80-generic
Compiler: gcc 10.3.0 (Ubuntu 10.3.0-1ubuntu1~20.04)
CentOS Stream 9 (ARM)
Kernel: Container Host Kernel
Compiler: gcc 11.3.1
Debian 11 (Buster) (ARM)
Kernel: Container Host Kernel
Compiler: gcc 10.2.1
To view detailed results, visit:
https://lab.dpdk.org/results/dashboard/patchsets/28627/
UNH-IOL DPDK Community Lab
To manage your email subscriptions, visit:
https://lab.dpdk.org/results/dashboard/preferences/subscriptions/
More information about the test-report
mailing list