|SUCCESS| pw135227 [PATCH] [v5] net/af_xdp: enable uds_path instead
dpdklab at iol.unh.edu
dpdklab at iol.unh.edu
Fri Dec 15 14:22:55 CET 2023
Test-Label: iol-compile-arm64-testing
Test-Status: SUCCESS
http://dpdk.org/patch/135227
_Testing PASS_
Submitter: Maryam Tahhan <mtahhan at redhat.com>
Date: Friday, December 15 2023 10:57:04
DPDK git baseline: Repo:dpdk
Branch: master
CommitID:e5dc404d33ac1c6cea5c62a88489746c5cb5e35e
135227 --> testing pass
Test environment and result as below:
+----------------------------------------+--------------------+
| Environment | dpdk_meson_compile |
+========================================+====================+
| Ubuntu 20.04 ARM SVE | PASS |
+----------------------------------------+--------------------+
| Fedora 38 (ARM) | PASS |
+----------------------------------------+--------------------+
| Debian 11 (Buster) (ARM) | PASS |
+----------------------------------------+--------------------+
| Fedora 37 (ARM) | PASS |
+----------------------------------------+--------------------+
| Ubuntu 20.04 (ARM) | PASS |
+----------------------------------------+--------------------+
| CentOS Stream 9 (ARM) | PASS |
+----------------------------------------+--------------------+
| Ubuntu 20.04 ARM Clang Cross Compile | PASS |
+----------------------------------------+--------------------+
| Ubuntu 20.04 aarch32 GCC Cross Compile | PASS |
+----------------------------------------+--------------------+
| Ubuntu 20.04 ARM GCC Cross Compile | PASS |
+----------------------------------------+--------------------+
Ubuntu 20.04 ARM SVE
Kernel: 5.4.0-80-generic
Compiler: gcc 10.3.0 (Ubuntu 10.3.0-1ubuntu1~20.04)
Fedora 38 (ARM)
Kernel: Depends on container host
Compiler: gcc 13.1.1
Debian 11 (Buster) (ARM)
Kernel: Container Host Kernel
Compiler: gcc 10.2.1
Fedora 37 (ARM)
Kernel: Depends on container host
Compiler: gcc 12.3.1
Ubuntu 20.04 (ARM)
Kernel: Container Host Kernel
Compiler: gcc 9.4.0
CentOS Stream 9 (ARM)
Kernel: Container Host Kernel
Compiler: gcc 11.3.1
Ubuntu 20.04 ARM Clang Cross Compile
Kernel: 5.4.0-72-generic
Compiler: clang version 10.0.0-4ubuntu1
Ubuntu 20.04 aarch32 GCC Cross Compile
Kernel: 5.4.0-72-generic
Compiler: gcc 9.3.0
Ubuntu 20.04 ARM GCC Cross Compile
Kernel: 5.4.0-72-generic
Compiler: aarch64-linux-gnu-gcc (Ubuntu 9.3.0-17ubuntu1~20.04) 9.3.0
To view detailed results, visit:
https://lab.dpdk.org/results/dashboard/patchsets/28646/
UNH-IOL DPDK Community Lab
To manage your email subscriptions, visit:
https://lab.dpdk.org/results/dashboard/preferences/subscriptions/
More information about the test-report
mailing list