|SUCCESS| [GIT MASTER] e5dc404d33ac1c6cea5c62a88489746c5cb5e35e
dpdklab at iol.unh.edu
dpdklab at iol.unh.edu
Mon Dec 18 03:06:37 CET 2023
_Testing PASS_
Branch: dpdk
e5dc404d33ac1c6cea5c62a88489746c5cb5e35e --> testing pass
Test environment and result as below:
+-----------------------+--------------------+
| Environment | dpdk_meson_compile |
+=======================+====================+
| Ubuntu 20.04 ARM SVE | PASS |
+-----------------------+--------------------+
| Ubuntu 20.04 (ARM) | PASS |
+-----------------------+--------------------+
| CentOS Stream 9 (ARM) | PASS |
+-----------------------+--------------------+
Ubuntu 20.04 ARM SVE
Kernel: 5.4.0-80-generic
Compiler: gcc 10.3.0 (Ubuntu 10.3.0-1ubuntu1~20.04)
Ubuntu 20.04 (ARM)
Kernel: Container Host Kernel
Compiler: gcc 9.4.0
CentOS Stream 9 (ARM)
Kernel: Container Host Kernel
Compiler: gcc 11.3.1
To view detailed results, visit:
https://lab.dpdk.org/results/dashboard/tarballs/27377/
UNH-IOL DPDK Community Lab
To manage your email subscriptions, visit:
https://lab.dpdk.org/results/dashboard/preferences/subscriptions/
More information about the test-report
mailing list