|SUCCESS| pw135335-135336 [PATCH] [2/2] ip_frag: updated name for IP
dpdklab at iol.unh.edu
dpdklab at iol.unh.edu
Tue Dec 19 17:17:11 CET 2023
Test-Label: iol-unit-arm64-testing
Test-Status: SUCCESS
http://dpdk.org/patch/135336
_Testing PASS_
Submitter: Euan Bourke <euan.bourke at intel.com>
Date: Tuesday, December 19 2023 15:17:54
DPDK git baseline: Repo:dpdk
Branch: master
CommitID:e5dc404d33ac1c6cea5c62a88489746c5cb5e35e
135335-135336 --> testing pass
Test environment and result as below:
+--------------------------+------------------------------+---------------------------+----------------+
| Environment | cryptodev_sw_snow3g_autotest | cryptodev_sw_zuc_autotest | dpdk_unit_test |
+==========================+==============================+===========================+================+
| Debian 11 (arm) | PASS | PASS | SKIPPED |
+--------------------------+------------------------------+---------------------------+----------------+
| Debian 11 (Buster) (ARM) | SKIPPED | SKIPPED | PASS |
+--------------------------+------------------------------+---------------------------+----------------+
| CentOS Stream 9 (ARM) | SKIPPED | SKIPPED | PASS |
+--------------------------+------------------------------+---------------------------+----------------+
| Ubuntu 20.04 (ARM) | SKIPPED | SKIPPED | PASS |
+--------------------------+------------------------------+---------------------------+----------------+
| Fedora 37 (ARM) | SKIPPED | SKIPPED | PASS |
+--------------------------+------------------------------+---------------------------+----------------+
Debian 11 (arm)
Kernel: Container Host Kernel
Compiler: gcc 10.2.1
Debian 11 (Buster) (ARM)
Kernel: Container Host Kernel
Compiler: gcc 10.2.1
CentOS Stream 9 (ARM)
Kernel: Container Host Kernel
Compiler: gcc 11.3.1
Ubuntu 20.04 (ARM)
Kernel: Container Host Kernel
Compiler: gcc 9.4.0
Fedora 37 (ARM)
Kernel: Depends on container host
Compiler: gcc 12.3.1
To view detailed results, visit:
https://lab.dpdk.org/results/dashboard/patchsets/28684/
UNH-IOL DPDK Community Lab
To manage your email subscriptions, visit:
https://lab.dpdk.org/results/dashboard/preferences/subscriptions/
More information about the test-report
mailing list