|SUCCESS| pw135346-135369 [PATCH] [v2,24/24] doc: port representors
dpdklab at iol.unh.edu
dpdklab at iol.unh.edu
Tue Dec 19 20:30:46 CET 2023
Test-Label: iol-unit-arm64-testing
Test-Status: SUCCESS
http://dpdk.org/patch/135369
_Testing PASS_
Submitter: Harman Kalra <hkalra at marvell.com>
Date: Tuesday, December 19 2023 17:40:03
DPDK git baseline: Repo:dpdk-next-net-mrvl
Branch: master
CommitID:1109973d4b76a62faa0f10d3626bc18556c99b05
135346-135369 --> testing pass
Test environment and result as below:
+--------------------------+------------------------------+----------------+---------------------------+--------------+
| Environment | cryptodev_sw_snow3g_autotest | dpdk_unit_test | cryptodev_sw_zuc_autotest | lpm_autotest |
+==========================+==============================+================+===========================+==============+
| Debian 11 (arm) | PASS | SKIPPED | PASS | SKIPPED |
+--------------------------+------------------------------+----------------+---------------------------+--------------+
| Debian 11 (Buster) (ARM) | SKIPPED | PASS | SKIPPED | SKIPPED |
+--------------------------+------------------------------+----------------+---------------------------+--------------+
| Fedora 37 (ARM) | SKIPPED | PASS | SKIPPED | SKIPPED |
+--------------------------+------------------------------+----------------+---------------------------+--------------+
| Fedora 38 (ARM Clang) | SKIPPED | PASS | SKIPPED | SKIPPED |
+--------------------------+------------------------------+----------------+---------------------------+--------------+
| Ubuntu 20.04 ARM SVE | SKIPPED | SKIPPED | SKIPPED | PASS |
+--------------------------+------------------------------+----------------+---------------------------+--------------+
Debian 11 (arm)
Kernel: Container Host Kernel
Compiler: gcc 10.2.1
Debian 11 (Buster) (ARM)
Kernel: Container Host Kernel
Compiler: gcc 10.2.1
Fedora 37 (ARM)
Kernel: Depends on container host
Compiler: gcc 12.3.1
Fedora 38 (ARM Clang)
Kernel: Depends on container host
Compiler: clang 16.0.3
Ubuntu 20.04 ARM SVE
Kernel: 5.4.0-80-generic
Compiler: gcc 10.3.0 (Ubuntu 10.3.0-1ubuntu1~20.04)
To view detailed results, visit:
https://lab.dpdk.org/results/dashboard/patchsets/28690/
UNH-IOL DPDK Community Lab
To manage your email subscriptions, visit:
https://lab.dpdk.org/results/dashboard/preferences/subscriptions/
More information about the test-report
mailing list