|SUCCESS| [GIT MASTER] 770e7c27240d09571a62627c3bc90b8e6e9f6024
dpdklab at iol.unh.edu
dpdklab at iol.unh.edu
Wed Dec 20 05:20:49 CET 2023
_Testing PASS_
Branch: tags/v21.11
770e7c27240d09571a62627c3bc90b8e6e9f6024 --> testing pass
Test environment and result as below:
+------------------+----------+
| Environment | abi_test |
+==================+==========+
| RHEL 7 | PASS |
+------------------+----------+
| openSUSE Leap 15 | PASS |
+------------------+----------+
| Fedora 38 | PASS |
+------------------+----------+
| CentOS Stream 9 | PASS |
+------------------+----------+
| Debian Bullseye | PASS |
+------------------+----------+
| Debian Buster | PASS |
+------------------+----------+
| Ubuntu 22.04 | PASS |
+------------------+----------+
| RHEL8 | PASS |
+------------------+----------+
| CentOS Stream 8 | PASS |
+------------------+----------+
RHEL 7
Kernel: 4.18.0-240.10.1.el8_3.x86_64
Compiler: gcc 4.8.5 20150623 (Red Hat 4.8.5-44)
openSUSE Leap 15
Kernel: 4.18.0-240.10.1.el8_3.x86_64
Compiler: gcc 7.5.0
Fedora 38
Kernel: Depends on container host
Compiler: clang 16.0.3
CentOS Stream 9
Kernel: 4.18.0-240.10.1.el8_3.x86_64
Compiler: gcc 11.3.1 20220421
Debian Bullseye
Kernel: 5.4.0-122-generic
Compiler: gcc 10.2.1-6
Debian Buster
Kernel: 5.4.0-122-generic
Compiler: gcc 8.3.0-6
Ubuntu 22.04
Kernel: 4.18.0-240.10.1.el8_3.x86_64
Compiler: gcc 11.3.0
RHEL8
Kernel: 4.18.0-240.10.1.el8_3.x86_64
Compiler: gcc 8.3.1 20191121 (Red Hat 8.3.1-5)
CentOS Stream 8
Kernel: 4.18.0-240.10.1.el8_3.x86_64
Compiler: gcc 8.4.1 20200928
To view detailed results, visit:
https://lab.dpdk.org/results/dashboard/tarballs/27413/
UNH-IOL DPDK Community Lab
To manage your email subscriptions, visit:
https://lab.dpdk.org/results/dashboard/preferences/subscriptions/
More information about the test-report
mailing list