|SUCCESS| [GIT MASTER] 770e7c27240d09571a62627c3bc90b8e6e9f6024
dpdklab at iol.unh.edu
dpdklab at iol.unh.edu
Wed Dec 20 06:04:55 CET 2023
_Testing PASS_
Branch: tags/v21.11
770e7c27240d09571a62627c3bc90b8e6e9f6024 --> testing pass
Test environment and result as below:
+------------------------------------+--------------------+
| Environment | dpdk_meson_compile |
+====================================+====================+
| Ubuntu 20.04 ARM SVE | PASS |
+------------------------------------+--------------------+
| Debian 11 (Buster) (ARM) | PASS |
+------------------------------------+--------------------+
| Fedora 37 (ARM) | PASS |
+------------------------------------+--------------------+
| Fedora 38 (ARM) | PASS |
+------------------------------------+--------------------+
| Ubuntu 20.04 ARM GCC Cross Compile | PASS |
+------------------------------------+--------------------+
Ubuntu 20.04 ARM SVE
Kernel: 5.4.0-80-generic
Compiler: gcc 10.3.0 (Ubuntu 10.3.0-1ubuntu1~20.04)
Debian 11 (Buster) (ARM)
Kernel: Container Host Kernel
Compiler: gcc 10.2.1
Fedora 37 (ARM)
Kernel: Depends on container host
Compiler: gcc 12.3.1
Fedora 38 (ARM)
Kernel: Depends on container host
Compiler: gcc 13.1.1
Ubuntu 20.04 ARM GCC Cross Compile
Kernel: 5.4.0-72-generic
Compiler: aarch64-linux-gnu-gcc (Ubuntu 9.3.0-17ubuntu1~20.04) 9.3.0
To view detailed results, visit:
https://lab.dpdk.org/results/dashboard/tarballs/27413/
UNH-IOL DPDK Community Lab
To manage your email subscriptions, visit:
https://lab.dpdk.org/results/dashboard/preferences/subscriptions/
More information about the test-report
mailing list