|SUCCESS| pw135393 [PATCH] [v2] app/dma-perf: replace pktmbuf with m
dpdklab at iol.unh.edu
dpdklab at iol.unh.edu
Wed Dec 20 22:59:40 CET 2023
Test-Label: iol-compile-arm64-testing
Test-Status: SUCCESS
http://dpdk.org/patch/135393
_Testing PASS_
Submitter: Vipin Varghese <vipin.varghese at amd.com>
Date: Wednesday, December 20 2023 11:03:33
DPDK git baseline: Repo:dpdk
Branch: master
CommitID:e5dc404d33ac1c6cea5c62a88489746c5cb5e35e
135393 --> testing pass
Test environment and result as below:
+----------------------+--------------------+
| Environment | dpdk_meson_compile |
+======================+====================+
| Ubuntu 20.04 ARM SVE | PASS |
+----------------------+--------------------+
| Fedora 38 (ARM) | PASS |
+----------------------+--------------------+
| Ubuntu 20.04 (ARM) | PASS |
+----------------------+--------------------+
Ubuntu 20.04 ARM SVE
Kernel: 5.4.0-80-generic
Compiler: gcc 10.3.0 (Ubuntu 10.3.0-1ubuntu1~20.04)
Fedora 38 (ARM)
Kernel: Depends on container host
Compiler: gcc 13.1.1
Ubuntu 20.04 (ARM)
Kernel: Container Host Kernel
Compiler: gcc 9.4.0
To view detailed results, visit:
https://lab.dpdk.org/results/dashboard/patchsets/28699/
UNH-IOL DPDK Community Lab
To manage your email subscriptions, visit:
https://lab.dpdk.org/results/dashboard/preferences/subscriptions/
More information about the test-report
mailing list