|SUCCESS| pw135393 [PATCH] [v2] app/dma-perf: replace pktmbuf with m
dpdklab at iol.unh.edu
dpdklab at iol.unh.edu
Wed Dec 20 23:23:27 CET 2023
Test-Label: iol-unit-amd64-testing
Test-Status: SUCCESS
http://dpdk.org/patch/135393
_Testing PASS_
Submitter: Vipin Varghese <vipin.varghese at amd.com>
Date: Wednesday, December 20 2023 11:03:33
DPDK git baseline: Repo:dpdk
Branch: master
CommitID:e5dc404d33ac1c6cea5c62a88489746c5cb5e35e
135393 --> testing pass
Test environment and result as below:
+---------------------+----------------+
| Environment | dpdk_unit_test |
+=====================+================+
| Windows Server 2019 | PASS |
+---------------------+----------------+
| Fedora 38 | PASS |
+---------------------+----------------+
| CentOS Stream 9 | PASS |
+---------------------+----------------+
| CentOS Stream 8 | PASS |
+---------------------+----------------+
| openSUSE Leap 15 | PASS |
+---------------------+----------------+
| Ubuntu 22.04 | PASS |
+---------------------+----------------+
Windows Server 2019
Kernel: 10.0
Compiler: clang 14.0 and gcc 8.1.0 (MinGW)
Fedora 38
Kernel: Depends on container host
Compiler: clang 16.0.3
CentOS Stream 9
Kernel: 4.18.0-240.10.1.el8_3.x86_64
Compiler: gcc 11.3.1 20220421
CentOS Stream 8
Kernel: 4.18.0-240.10.1.el8_3.x86_64
Compiler: gcc 8.4.1 20200928
openSUSE Leap 15
Kernel: 4.18.0-240.10.1.el8_3.x86_64
Compiler: gcc 7.5.0
Ubuntu 22.04
Kernel: 4.18.0-240.10.1.el8_3.x86_64
Compiler: gcc 11.3.0
To view detailed results, visit:
https://lab.dpdk.org/results/dashboard/patchsets/28699/
UNH-IOL DPDK Community Lab
To manage your email subscriptions, visit:
https://lab.dpdk.org/results/dashboard/preferences/subscriptions/
More information about the test-report
mailing list