|SUCCESS| pw135426 [PATCH] net/ice: add diagnostic support in TX pat
dpdklab at iol.unh.edu
dpdklab at iol.unh.edu
Thu Dec 21 12:19:58 CET 2023
Test-Label: iol-unit-arm64-testing
Test-Status: SUCCESS
http://dpdk.org/patch/135426
_Testing PASS_
Submitter: Mingjin Ye <mingjinx.ye at intel.com>
Date: Thursday, December 21 2023 10:13:58
DPDK git baseline: Repo:dpdk
Branch: master
CommitID:e5dc404d33ac1c6cea5c62a88489746c5cb5e35e
135426 --> testing pass
Test environment and result as below:
+--------------------------+------------------------------+----------------+
| Environment | cryptodev_sw_snow3g_autotest | dpdk_unit_test |
+==========================+==============================+================+
| Debian 11 (arm) | PASS | SKIPPED |
+--------------------------+------------------------------+----------------+
| CentOS Stream 9 (ARM) | SKIPPED | PASS |
+--------------------------+------------------------------+----------------+
| Debian 11 (Buster) (ARM) | SKIPPED | PASS |
+--------------------------+------------------------------+----------------+
Debian 11 (arm)
Kernel: Container Host Kernel
Compiler: gcc 10.2.1
CentOS Stream 9 (ARM)
Kernel: Container Host Kernel
Compiler: gcc 11.3.1
Debian 11 (Buster) (ARM)
Kernel: Container Host Kernel
Compiler: gcc 10.2.1
To view detailed results, visit:
https://lab.dpdk.org/results/dashboard/patchsets/28711/
UNH-IOL DPDK Community Lab
To manage your email subscriptions, visit:
https://lab.dpdk.org/results/dashboard/preferences/subscriptions/
More information about the test-report
mailing list