|SUCCESS| pw135427 [PATCH] [v1,1/1] net/thunderx: update dmac contro
dpdklab at iol.unh.edu
dpdklab at iol.unh.edu
Thu Dec 21 14:51:03 CET 2023
Test-Label: iol-abi-testing
Test-Status: SUCCESS
http://dpdk.org/patch/135427
_Testing PASS_
Submitter: Hanumanth Pothula <hpothula at marvell.com>
Date: Thursday, December 21 2023 11:19:59
DPDK git baseline: Repo:dpdk
Branch: master
CommitID:e5dc404d33ac1c6cea5c62a88489746c5cb5e35e
135427 --> testing pass
Test environment and result as below:
+------------------+----------+
| Environment | abi_test |
+==================+==========+
| Debian Bullseye | PASS |
+------------------+----------+
| Debian Buster | PASS |
+------------------+----------+
| openSUSE Leap 15 | PASS |
+------------------+----------+
Debian Bullseye
Kernel: 5.4.0-122-generic
Compiler: gcc 10.2.1-6
Debian Buster
Kernel: 5.4.0-122-generic
Compiler: gcc 8.3.0-6
openSUSE Leap 15
Kernel: 4.18.0-240.10.1.el8_3.x86_64
Compiler: gcc 7.5.0
To view detailed results, visit:
https://lab.dpdk.org/results/dashboard/patchsets/28712/
UNH-IOL DPDK Community Lab
To manage your email subscriptions, visit:
https://lab.dpdk.org/results/dashboard/preferences/subscriptions/
More information about the test-report
mailing list