|SUCCESS| [GIT MASTER] f09b7a8527e265ba9531aa7c10e2452465038b3d
dpdklab at iol.unh.edu
dpdklab at iol.unh.edu
Fri Dec 22 01:50:41 CET 2023
_Testing PASS_
Branch: dpdk-next-net-intel
f09b7a8527e265ba9531aa7c10e2452465038b3d --> testing pass
Test environment and result as below:
+---------------------+--------------------+----------------------+
| Environment | dpdk_meson_compile | dpdk_mingw64_compile |
+=====================+====================+======================+
| Windows Server 2022 | PASS | SKIPPED |
+---------------------+--------------------+----------------------+
| FreeBSD 13 | PASS | SKIPPED |
+---------------------+--------------------+----------------------+
| RHEL8 | PASS | SKIPPED |
+---------------------+--------------------+----------------------+
| Fedora 37 | PASS | SKIPPED |
+---------------------+--------------------+----------------------+
| Windows Server 2019 | PASS | PASS |
+---------------------+--------------------+----------------------+
| CentOS Stream 9 | PASS | SKIPPED |
+---------------------+--------------------+----------------------+
| Fedora 38 | PASS | SKIPPED |
+---------------------+--------------------+----------------------+
| Debian Buster | PASS | SKIPPED |
+---------------------+--------------------+----------------------+
| Ubuntu 20.04 | PASS | SKIPPED |
+---------------------+--------------------+----------------------+
| Debian Bullseye | PASS | SKIPPED |
+---------------------+--------------------+----------------------+
Windows Server 2022
Kernel: OS Build 20348.2031
Compiler: MSVC VS-Preview
FreeBSD 13
Kernel: 13.0
Compiler: clang 11.0.1
RHEL8
Kernel: 4.18.0-240.10.1.el8_3.x86_64
Compiler: gcc 8.3.1 20191121 (Red Hat 8.3.1-5)
Fedora 37
Kernel: Depends on container host system
Compiler: gcc 12.3.1
Windows Server 2019
Kernel: 10.0
Compiler: clang 14.0 and gcc 8.1.0 (MinGW)
CentOS Stream 9
Kernel: 4.18.0-240.10.1.el8_3.x86_64
Compiler: gcc 11.3.1 20220421
Fedora 38
Kernel: Depends on container host
Compiler: clang 16.0.3
Debian Buster
Kernel: 5.4.0-122-generic
Compiler: gcc 8.3.0-6
Ubuntu 20.04
Kernel: 5.4.0-153-generic
Compiler: gcc 9.4.0-1ubuntu1~20.04.1
Debian Bullseye
Kernel: 5.4.0-122-generic
Compiler: gcc 10.2.1-6
To view detailed results, visit:
https://lab.dpdk.org/results/dashboard/tarballs/27447/
UNH-IOL DPDK Community Lab
To manage your email subscriptions, visit:
https://lab.dpdk.org/results/dashboard/preferences/subscriptions/
More information about the test-report
mailing list