|SUCCESS| pw135499 [PATCH] [v7,1/1] net/af_xdp: fix multi interface
dpdklab at iol.unh.edu
dpdklab at iol.unh.edu
Sat Dec 23 03:46:55 CET 2023
Test-Label: iol-abi-testing
Test-Status: SUCCESS
http://dpdk.org/patch/135499
_Testing PASS_
Submitter: Maryam Tahhan <mtahhan at redhat.com>
Date: Friday, December 22 2023 11:04:31
DPDK git baseline: Repo:dpdk
Branch: master
CommitID:6ef07151aac4b4d9601d547f94a996d1c71b3871
135499 --> testing pass
Test environment and result as below:
+---------------+----------+
| Environment | abi_test |
+===============+==========+
| Debian Buster | PASS |
+---------------+----------+
| Ubuntu 22.04 | PASS |
+---------------+----------+
| Fedora 37 | PASS |
+---------------+----------+
Debian Buster
Kernel: 5.4.0-122-generic
Compiler: gcc 8.3.0-6
Ubuntu 22.04
Kernel: 4.18.0-240.10.1.el8_3.x86_64
Compiler: gcc 11.3.0
Fedora 37
Kernel: Depends on container host system
Compiler: gcc 12.3.1
To view detailed results, visit:
https://lab.dpdk.org/results/dashboard/patchsets/28724/
UNH-IOL DPDK Community Lab
To manage your email subscriptions, visit:
https://lab.dpdk.org/results/dashboard/preferences/subscriptions/
More information about the test-report
mailing list