|SUCCESS| [GIT MASTER] bbc9320cafa6e70d08fa80cf1e43da461aecb9f6
dpdklab at iol.unh.edu
dpdklab at iol.unh.edu
Sat Dec 23 09:14:28 CET 2023
_Testing PASS_
Branch: tags/v21.11
bbc9320cafa6e70d08fa80cf1e43da461aecb9f6 --> testing pass
Test environment and result as below:
+------------------------------------+--------------------+
| Environment | dpdk_meson_compile |
+====================================+====================+
| Ubuntu 20.04 ARM SVE | PASS |
+------------------------------------+--------------------+
| Fedora 38 (ARM) | PASS |
+------------------------------------+--------------------+
| Debian 11 (Buster) (ARM) | PASS |
+------------------------------------+--------------------+
| Ubuntu 20.04 (ARM) | PASS |
+------------------------------------+--------------------+
| CentOS Stream 9 (ARM) | PASS |
+------------------------------------+--------------------+
| Fedora 38 (ARM Clang) | PASS |
+------------------------------------+--------------------+
| Ubuntu 20.04 ARM GCC Cross Compile | PASS |
+------------------------------------+--------------------+
| Fedora 37 (ARM) | PASS |
+------------------------------------+--------------------+
Ubuntu 20.04 ARM SVE
Kernel: 5.4.0-80-generic
Compiler: gcc 10.3.0 (Ubuntu 10.3.0-1ubuntu1~20.04)
Fedora 38 (ARM)
Kernel: Depends on container host
Compiler: gcc 13.1.1
Debian 11 (Buster) (ARM)
Kernel: Container Host Kernel
Compiler: gcc 10.2.1
Ubuntu 20.04 (ARM)
Kernel: Container Host Kernel
Compiler: gcc 9.4.0
CentOS Stream 9 (ARM)
Kernel: Container Host Kernel
Compiler: gcc 11.3.1
Fedora 38 (ARM Clang)
Kernel: Depends on container host
Compiler: clang 16.0.3
Ubuntu 20.04 ARM GCC Cross Compile
Kernel: 5.4.0-72-generic
Compiler: aarch64-linux-gnu-gcc (Ubuntu 9.3.0-17ubuntu1~20.04) 9.3.0
Fedora 37 (ARM)
Kernel: Depends on container host
Compiler: gcc 12.3.1
To view detailed results, visit:
https://lab.dpdk.org/results/dashboard/tarballs/27462/
UNH-IOL DPDK Community Lab
To manage your email subscriptions, visit:
https://lab.dpdk.org/results/dashboard/preferences/subscriptions/
More information about the test-report
mailing list