|SUCCESS| pw135623 [PATCH] net/i40e: updated 23.11 recommended match
dpdklab at iol.unh.edu
dpdklab at iol.unh.edu
Thu Dec 28 15:45:29 CET 2023
Test-Label: iol-abi-testing
Test-Status: SUCCESS
http://dpdk.org/patch/135623
_Testing PASS_
Submitter: Simei Su <simei.su at intel.com>
Date: Thursday, December 28 2023 08:37:33
DPDK git baseline: Repo:dpdk
Branch: master
CommitID:6ef07151aac4b4d9601d547f94a996d1c71b3871
135623 --> testing pass
Test environment and result as below:
+-----------------+----------+
| Environment | abi_test |
+=================+==========+
| Debian Buster | PASS |
+-----------------+----------+
| CentOS Stream 8 | PASS |
+-----------------+----------+
| RHEL8 | PASS |
+-----------------+----------+
| Debian Bullseye | PASS |
+-----------------+----------+
Debian Buster
Kernel: 5.4.0-122-generic
Compiler: gcc 8.3.0-6
CentOS Stream 8
Kernel: 4.18.0-240.10.1.el8_3.x86_64
Compiler: gcc 8.4.1 20200928
RHEL8
Kernel: 4.18.0-240.10.1.el8_3.x86_64
Compiler: gcc 8.3.1 20191121 (Red Hat 8.3.1-5)
Debian Bullseye
Kernel: 5.4.0-122-generic
Compiler: gcc 10.2.1-6
To view detailed results, visit:
https://lab.dpdk.org/results/dashboard/patchsets/28748/
UNH-IOL DPDK Community Lab
To manage your email subscriptions, visit:
https://lab.dpdk.org/results/dashboard/preferences/subscriptions/
More information about the test-report
mailing list