|SUCCESS| pw135631 [PATCH] [v2] net/e1000: support launchtime featur
dpdklab at iol.unh.edu
dpdklab at iol.unh.edu
Sat Dec 30 18:13:34 CET 2023
Test-Label: iol-compile-amd64-testing
Test-Status: SUCCESS
http://dpdk.org/patch/135631
_Testing PASS_
Submitter: Chuanyu Xue <chuanyu.xue at uconn.edu>
Date: Saturday, December 30 2023 16:35:09
DPDK git baseline: Repo:dpdk
Branch: master
CommitID:6ef07151aac4b4d9601d547f94a996d1c71b3871
135631 --> testing pass
Test environment and result as below:
+-----------------+--------------------+
| Environment | dpdk_meson_compile |
+=================+====================+
| Debian Buster | PASS |
+-----------------+--------------------+
| FreeBSD 13 | PASS |
+-----------------+--------------------+
| CentOS Stream 8 | PASS |
+-----------------+--------------------+
| CentOS Stream 9 | PASS |
+-----------------+--------------------+
| Debian Bullseye | PASS |
+-----------------+--------------------+
| Fedora 37 | PASS |
+-----------------+--------------------+
Debian Buster
Kernel: 5.4.0-122-generic
Compiler: gcc 8.3.0-6
FreeBSD 13
Kernel: 13.0
Compiler: clang 11.0.1
CentOS Stream 8
Kernel: 4.18.0-240.10.1.el8_3.x86_64
Compiler: gcc 8.4.1 20200928
CentOS Stream 9
Kernel: 4.18.0-240.10.1.el8_3.x86_64
Compiler: gcc 11.3.1 20220421
Debian Bullseye
Kernel: 5.4.0-122-generic
Compiler: gcc 10.2.1-6
Fedora 37
Kernel: Depends on container host system
Compiler: gcc 12.3.1
To view detailed results, visit:
https://lab.dpdk.org/results/dashboard/patchsets/28754/
UNH-IOL DPDK Community Lab
To manage your email subscriptions, visit:
https://lab.dpdk.org/results/dashboard/preferences/subscriptions/
More information about the test-report
mailing list