BEGIN:VCALENDAR
VERSION:2.0
PRODID:-//DPDK - ECPv6.15.20//NONSGML v1.0//EN
CALSCALE:GREGORIAN
METHOD:PUBLISH
X-WR-CALNAME:DPDK
X-ORIGINAL-URL:https://www.dpdk.org
X-WR-CALDESC:Events for DPDK
REFRESH-INTERVAL;VALUE=DURATION:PT1H
X-Robots-Tag:noindex
X-PUBLISHED-TTL:PT1H
BEGIN:VTIMEZONE
TZID:America/Los_Angeles
BEGIN:DAYLIGHT
TZOFFSETFROM:-0800
TZOFFSETTO:-0700
TZNAME:PDT
DTSTART:20140309T100000
END:DAYLIGHT
BEGIN:STANDARD
TZOFFSETFROM:-0700
TZOFFSETTO:-0800
TZNAME:PST
DTSTART:20141102T090000
END:STANDARD
BEGIN:DAYLIGHT
TZOFFSETFROM:-0800
TZOFFSETTO:-0700
TZNAME:PDT
DTSTART:20150308T100000
END:DAYLIGHT
BEGIN:STANDARD
TZOFFSETFROM:-0700
TZOFFSETTO:-0800
TZNAME:PST
DTSTART:20151101T090000
END:STANDARD
BEGIN:DAYLIGHT
TZOFFSETFROM:-0800
TZOFFSETTO:-0700
TZNAME:PDT
DTSTART:20160313T100000
END:DAYLIGHT
BEGIN:STANDARD
TZOFFSETFROM:-0700
TZOFFSETTO:-0800
TZNAME:PST
DTSTART:20161106T090000
END:STANDARD
END:VTIMEZONE
BEGIN:VEVENT
DTSTART;VALUE=DATE:20150421
DTEND;VALUE=DATE:20150422
DTSTAMP:20260424T002654
CREATED:20150421T200004Z
LAST-MODIFIED:20180914T150222Z
UID:724-1429574400-1429660799@www.dpdk.org
SUMMARY:DPDK Summit\, Beijing
DESCRIPTION:DPDK Summit China 2015 – April 21\, 2015\nThe DPDK community met at the JW Marriott Hotel in Beijing to discuss the application of DPDK to a variety of industry segments including telecom\, cloud\, enterprise\, security\, and financial services. The event enabled the DPDK open source community to share DPDK usage and implementation; to hear from DPDK developers\, contributors\, and users; and to build the DPDK community. \n\n\n\n 
URL:https://www.dpdk.org/event/dpdk-summit-beijing-2015/
LOCATION:JW Marriott Beijing\, Beijing\, China
CATEGORIES:DPDK Summit
GEO:39.9041999;116.4073963
END:VEVENT
END:VCALENDAR